BEGIN:VCALENDAR
VERSION:2.0
PRODID:-//OmniMagnetCalendar//EN
BEGIN:VEVENT
DTSTAMP:20190625T195740Z
STATUS:CONFIRMED
UID:hcsanantonio.clubs.harvard.edu276
DTSTART:20191002T220000Z
DTEND:20191003T010000Z
LOCATION:Hanzo, 7701 Broadway Street, #124, San Antonio, TX, 78209,
SUMMARY:Welcome to Your City
DESCRIPTION:
BEGIN:VALARM
TRIGGER:-PT15M
ACTION:DISPLAY
END:VALARM
TRANSP:OPAQUE
END:VEVENT
END:VCALENDAR
