BEGIN:VCALENDAR
VERSION:2.0
PRODID:-//OmniMagnetCalendar//EN
BEGIN:VEVENT
DTSTAMP:20190625T195740Z
STATUS:CONFIRMED
UID:hcsanantonio.clubs.harvard.edu279
DTSTART:20191123T163000Z
DTEND:20191123T200000Z
LOCATION:StoneWerks - Lincoln Heights, 999 E. Basse Road, San Antonio, TX, 78209, US,
SUMMARY:Harvard - Yale Game Viewing Party!
DESCRIPTION:
BEGIN:VALARM
TRIGGER:-PT15M
ACTION:DISPLAY
END:VALARM
TRANSP:OPAQUE
END:VEVENT
END:VCALENDAR
