BEGIN:VCALENDAR
VERSION:2.0
PRODID:-//OmniMagnetCalendar//EN
BEGIN:VEVENT
DTSTAMP:20190625T195740Z
STATUS:CONFIRMED
UID:hcsanantonio.clubs.harvard.edu280
DTSTART:20191229T200000Z
DTEND:20191229T230000Z
LOCATION:Azuca Nuevo Latina Restaurant, 709 S. Alamo Street, San Antonio, TX, 78205, US,
SUMMARY:2019 Harvard Club of San Antonio Annual Holiday Party!
DESCRIPTION:Azuca Nuevo Latina Restaurant, 709 S. Alamo St.
BEGIN:VALARM
TRIGGER:-PT15M
ACTION:DISPLAY
END:VALARM
TRANSP:OPAQUE
END:VEVENT
END:VCALENDAR
