BEGIN:VCALENDAR
VERSION:2.0
PRODID:-//OmniMagnetCalendar//EN
BEGIN:VEVENT
DTSTAMP:20190625T195740Z
STATUS:CONFIRMED
UID:hcsanantonio.clubs.harvard.edu281
DTSTART:20200116T000000Z
DTEND:20200116T020000Z
LOCATION:Stone Werks - Lincoln Heights, 999 E. Basse Road, San Antonio, TX, 78209,
SUMMARY:Harvard Global Networking Night - 2020
DESCRIPTION:Come mingle with your fellow Harvard grads on January 15, 2020!
BEGIN:VALARM
TRIGGER:-PT15M
ACTION:DISPLAY
END:VALARM
TRANSP:OPAQUE
END:VEVENT
END:VCALENDAR
