BEGIN:VCALENDAR
VERSION:2.0
PRODID:-//OmniMagnetCalendar//EN
BEGIN:VEVENT
DTSTAMP:20190625T195740Z
STATUS:CONFIRMED
UID:hcsanantonio.clubs.harvard.edu283
DTSTART:20200209T190000Z
DTEND:20200209T230000Z
LOCATION:Regal Huebner Oaks, 11075 W Interstate 10, San Antonio, TX, 78230,
SUMMARY:Love Story Viewing Party
DESCRIPTION:
BEGIN:VALARM
TRIGGER:-PT15M
ACTION:DISPLAY
END:VALARM
TRANSP:OPAQUE
END:VEVENT
END:VCALENDAR
