BEGIN:VCALENDAR
VERSION:2.0
PRODID:-//OmniMagnetCalendar//EN
BEGIN:VEVENT
DTSTAMP:20190625T195740Z
STATUS:CONFIRMED
UID:hcsanantonio.clubs.harvard.edu284
DTSTART:20200501T010000Z
DTEND:20200501T030000Z
LOCATION:Keystone School, Jary Auditorium, 119 E. Craig Place, San Antonio, TX, 78212,
SUMMARY:CANCELED Due to Pandemic: Fighting Cancer with the Mind by Dr. Jamie Jacobs, Professor, Harvard Medi
DESCRIPTION:
BEGIN:VALARM
TRIGGER:-PT15M
ACTION:DISPLAY
END:VALARM
TRANSP:OPAQUE
END:VEVENT
END:VCALENDAR
