BEGIN:VCALENDAR
VERSION:2.0
PRODID:-//OmniMagnetCalendar//EN
BEGIN:VEVENT
DTSTAMP:20190625T195740Z
STATUS:CONFIRMED
UID:hcsanantonio.clubs.harvard.edu285
DTSTART:20200221T180000Z
DTEND:20200221T191500Z
LOCATION:Bourbon Street Seafood, 103 9th Street, San Antonio, TX, 78215,
SUMMARY:Monthly HBS-Harvard Lunch Club
DESCRIPTION:
BEGIN:VALARM
TRIGGER:-PT15M
ACTION:DISPLAY
END:VALARM
TRANSP:OPAQUE
END:VEVENT
END:VCALENDAR
