BEGIN:VCALENDAR
VERSION:2.0
PRODID:-//OmniMagnetCalendar//EN
BEGIN:VEVENT
DTSTAMP:20190625T195740Z
STATUS:CONFIRMED
UID:hcsanantonio.clubs.harvard.edu286
DTSTART:20200324T223000Z
DTEND:20200325T010000Z
LOCATION:Stone Werks - Lincoln Heights, 999 E. Basse Road, San Antonio, TX, 78209, US,
SUMMARY:CANCELLED: Ivy Plus Social Gathering
DESCRIPTION:
BEGIN:VALARM
TRIGGER:-PT15M
ACTION:DISPLAY
END:VALARM
TRANSP:OPAQUE
END:VEVENT
END:VCALENDAR
