BEGIN:VCALENDAR
VERSION:2.0
PRODID:-//OmniMagnetCalendar//EN
BEGIN:VEVENT
DTSTAMP:20190625T195740Z
STATUS:CONFIRMED
UID:hcsanantonio.clubs.harvard.edu287
DTSTART:20200320T170000Z
DTEND:20200320T181500Z
LOCATION:BJ's Restaurant & Brewhouse at The Rim, 17503 IH 10 W, San Antonio, TX, 78249, USA,
SUMMARY:CANCELLED: Monthly HBS-Harvard Lunch Club
DESCRIPTION:
BEGIN:VALARM
TRIGGER:-PT15M
ACTION:DISPLAY
END:VALARM
TRANSP:OPAQUE
END:VEVENT
END:VCALENDAR
