BEGIN:VCALENDAR
VERSION:2.0
PRODID:-//OmniMagnetCalendar//EN
BEGIN:VEVENT
DTSTAMP:20190625T195740Z
STATUS:CONFIRMED
UID:hcsanantonio.clubs.harvard.edu290
DTSTART:20200717T170000Z
DTEND:20200717T183000Z
LOCATION:Virtual Meeting,
SUMMARY: VIRTUAL LUNCHEON, FRIDAY, JULY 17, 2020
DESCRIPTION:
BEGIN:VALARM
TRIGGER:-PT15M
ACTION:DISPLAY
END:VALARM
TRANSP:OPAQUE
END:VEVENT
END:VCALENDAR
