BEGIN:VCALENDAR
VERSION:2.0
PRODID:-//OmniMagnetCalendar//EN
BEGIN:VEVENT
DTSTAMP:20190625T195740Z
STATUS:CONFIRMED
UID:hcsanantonio.clubs.harvard.edu291
DTSTART:20200821T170000Z
DTEND:20200821T180000Z
LOCATION:Zoom: https://zoom.us/j/98340610002,
SUMMARY:HBS/Harvard Club Virtual Lunch with Eric B. Schultz
DESCRIPTION:
BEGIN:VALARM
TRIGGER:-PT15M
ACTION:DISPLAY
END:VALARM
TRANSP:OPAQUE
END:VEVENT
END:VCALENDAR
