BEGIN:VCALENDAR
VERSION:2.0
PRODID:-//OmniMagnetCalendar//EN
BEGIN:VEVENT
DTSTAMP:20190625T195740Z
STATUS:CONFIRMED
UID:hcsanantonio.clubs.harvard.edu293
DTSTART:20200915T220000Z
DTEND:20200915T233000Z
LOCATION:https://us02web.zoom.us/j/84416475051?pwd=ZUVKaFZvV0F1WEFOdXYwZjFxbWZEQT09,
SUMMARY:Ivy Plus / SAYP Virtual Happy Hour
DESCRIPTION:
BEGIN:VALARM
TRIGGER:-PT15M
ACTION:DISPLAY
END:VALARM
TRANSP:OPAQUE
END:VEVENT
END:VCALENDAR
