BEGIN:VCALENDAR
VERSION:2.0
PRODID:-//OmniMagnetCalendar//EN
BEGIN:VEVENT
DTSTAMP:20190625T195740Z
STATUS:CONFIRMED
UID:hcsanantonio.clubs.harvard.edu295
DTSTART:20201021T223000Z
DTEND:20201021T233000Z
LOCATION:https://us02web.zoom.us/j/88077015206,
SUMMARY:Exploring the Role of Slavery in the Settlement of Texas and in the Texas Revolution
DESCRIPTION:
BEGIN:VALARM
TRIGGER:-PT15M
ACTION:DISPLAY
END:VALARM
TRANSP:OPAQUE
END:VEVENT
END:VCALENDAR
