BEGIN:VCALENDAR
VERSION:2.0
PRODID:-//OmniMagnetCalendar//EN
BEGIN:VEVENT
DTSTAMP:20190625T195740Z
STATUS:CONFIRMED
UID:hcsanantonio.clubs.harvard.edu297
DTSTART:20201016T170000Z
DTEND:20201016T180000Z
LOCATION:https://zoom.us/j/95047485456?pwd=dm5qdDEwYWs2RWJNS2xxckJyRmhDQT09,
SUMMARY:Greedy Bastards: A One on One with Sheryl Sculley
DESCRIPTION:
BEGIN:VALARM
TRIGGER:-PT15M
ACTION:DISPLAY
END:VALARM
TRANSP:OPAQUE
END:VEVENT
END:VCALENDAR
