BEGIN:VCALENDAR
VERSION:2.0
PRODID:-//OmniMagnetCalendar//EN
BEGIN:VEVENT
DTSTAMP:20190625T195740Z
STATUS:CONFIRMED
UID:hcsanantonio.clubs.harvard.edu298
DTSTART:20201111T003000Z
DTEND:20201111T020000Z
LOCATION:https://us02web.zoom.us/j/82573790175?pwd=dUVHOVNIVjc1b2F6L3lBZjdvYjNwZz09,
SUMMARY:A Virtual Gathering of the Harvard Book Club
DESCRIPTION:
BEGIN:VALARM
TRIGGER:-PT15M
ACTION:DISPLAY
END:VALARM
TRANSP:OPAQUE
END:VEVENT
END:VCALENDAR
