BEGIN:VCALENDAR
VERSION:2.0
PRODID:-//OmniMagnetCalendar//EN
BEGIN:VEVENT
DTSTAMP:20190625T195740Z
STATUS:CONFIRMED
UID:hcsanantonio.clubs.harvard.edu299
DTSTART:20201120T180000Z
DTEND:20201120T190000Z
LOCATION:https://www.google.com/url?q=https://us02web.zoom.us/j/88174206238?pwd%3DSDl0OVN3R1RsVkxhWXV6NUVCcG1vZz09&sa=D&source=calendar&usd=2&usg=AOvVaw2T0G5tYl7O-x698jmxCgKL,
SUMMARY:HBS/Harvard Virtual November Lunch Club
DESCRIPTION:
BEGIN:VALARM
TRIGGER:-PT15M
ACTION:DISPLAY
END:VALARM
TRANSP:OPAQUE
END:VEVENT
END:VCALENDAR
