BEGIN:VCALENDAR
VERSION:2.0
PRODID:-//OmniMagnetCalendar//EN
BEGIN:VEVENT
DTSTAMP:20190625T195740Z
STATUS:CONFIRMED
UID:hcsanantonio.clubs.harvard.edu300
DTSTART:20201203T000000Z
DTEND:20201203T013000Z
LOCATION:Zoom (https://us02web.zoom.us/j/89077567360?pwd=Q21SMEhHNE93VTc5NzhSa3BWQTdLQT09),
SUMMARY:SAYP / HCSA / Ivy Plus Virtual Happy Hour
DESCRIPTION:
BEGIN:VALARM
TRIGGER:-PT15M
ACTION:DISPLAY
END:VALARM
TRANSP:OPAQUE
END:VEVENT
END:VCALENDAR
