BEGIN:VCALENDAR
VERSION:2.0
PRODID:-//OmniMagnetCalendar//EN
BEGIN:VEVENT
DTSTAMP:20190625T195740Z
STATUS:CONFIRMED
UID:hcsanantonio.clubs.harvard.edu302
DTSTART:20201209T233000Z
DTEND:20201210T010000Z
LOCATION:https://us02web.zoom.us/j/83406129063?pwd=WllvR3hod3lXT3BqY1puL1hZMWE3UT09,
SUMMARY:The COVID-19 Crisis: Of Viruses and Vaccines
DESCRIPTION:
BEGIN:VALARM
TRIGGER:-PT15M
ACTION:DISPLAY
END:VALARM
TRANSP:OPAQUE
END:VEVENT
END:VCALENDAR
