BEGIN:VCALENDAR
VERSION:2.0
PRODID:-//OmniMagnetCalendar//EN
BEGIN:VEVENT
DTSTAMP:20190625T195740Z
STATUS:CONFIRMED
UID:hcsanantonio.clubs.harvard.edu303
DTSTART:20201218T180000Z
DTEND:20201218T190000Z
LOCATION:http://emclick.imodules.com/ls/click?upn=uNT0koXNNGAlSYVxZ00PKFRqFa0Zn8H0u0RAFjWVH05ce2Pmww2P2carKXH-2Fbq9pGoj-2FmKifBi2Avtm93zCesb-2F-2FTgwZZO32FUpmaiNuQqxXKaUCbDLQpuKYwwZs0qwW6FXzX-2FkjKj-2Fp1SQ5dJw,
SUMMARY:HBS/Harvard December Virtual Lunch Club
DESCRIPTION:
BEGIN:VALARM
TRIGGER:-PT15M
ACTION:DISPLAY
END:VALARM
TRANSP:OPAQUE
END:VEVENT
END:VCALENDAR
