BEGIN:VCALENDAR
VERSION:2.0
PRODID:-//OmniMagnetCalendar//EN
BEGIN:VEVENT
DTSTAMP:20190625T195740Z
STATUS:CONFIRMED
UID:hcsanantonio.clubs.harvard.edu304
DTSTART:20210113T233000Z
DTEND:20210114T003000Z
LOCATION:https://us02web.zoom.us/j/83789738418?pwd%3DNG9ReFVqVVlHWXR3TDNyY0tZUXNDUT09,
SUMMARY:Poverty in San Antonio: By the Numbers
DESCRIPTION:
BEGIN:VALARM
TRIGGER:-PT15M
ACTION:DISPLAY
END:VALARM
TRANSP:OPAQUE
END:VEVENT
END:VCALENDAR
