BEGIN:VCALENDAR
VERSION:2.0
PRODID:-//OmniMagnetCalendar//EN
BEGIN:VEVENT
DTSTAMP:20190625T195740Z
STATUS:CONFIRMED
UID:hcsanantonio.clubs.harvard.edu310
DTSTART:20210312T010000Z
DTEND:20210312T023000Z
LOCATION:Registration: http://hcdallas.clubs.harvard.edu/article.html?aid=646,
SUMMARY:RESCHEDULED! Religion and the Rise of Capitalism
DESCRIPTION:
BEGIN:VALARM
TRIGGER:-PT15M
ACTION:DISPLAY
END:VALARM
TRANSP:OPAQUE
END:VEVENT
END:VCALENDAR
