BEGIN:VCALENDAR
VERSION:2.0
PRODID:-//OmniMagnetCalendar//EN
BEGIN:VEVENT
DTSTAMP:20190625T195740Z
STATUS:CONFIRMED
UID:hcsanantonio.clubs.harvard.edu313
DTSTART:20210406T233000Z
DTEND:20210407T010000Z
LOCATION:Zoom,
SUMMARY:HCSA Book Club - April 2021 Meeting
DESCRIPTION:
BEGIN:VALARM
TRIGGER:-PT15M
ACTION:DISPLAY
END:VALARM
TRANSP:OPAQUE
END:VEVENT
END:VCALENDAR
