BEGIN:VCALENDAR
VERSION:2.0
PRODID:-//OmniMagnetCalendar//EN
BEGIN:VEVENT
DTSTAMP:20190625T195740Z
STATUS:CONFIRMED
UID:hcsanantonio.clubs.harvard.edu318
DTSTART:20210811T233000Z
DTEND:20210812T010000Z
LOCATION:Zoom or In-Person (inquire for location to charlesmassiatte@g.harvard.edu),
SUMMARY:HCSA Book Club Meeting
DESCRIPTION:
BEGIN:VALARM
TRIGGER:-PT15M
ACTION:DISPLAY
END:VALARM
TRANSP:OPAQUE
END:VEVENT
END:VCALENDAR
