BEGIN:VCALENDAR
VERSION:2.0
PRODID:-//OmniMagnetCalendar//EN
BEGIN:VEVENT
DTSTAMP:20190625T195740Z
STATUS:CONFIRMED
UID:hcsanantonio.clubs.harvard.edu320
DTSTART:20211021T220000Z
DTEND:20211022T003000Z
LOCATION:Sabor Cocinabar, 4331 McCullough, San Antonio, TX, 78212,
SUMMARY:Welcome to Your City
DESCRIPTION:
BEGIN:VALARM
TRIGGER:-PT15M
ACTION:DISPLAY
END:VALARM
TRANSP:OPAQUE
END:VEVENT
END:VCALENDAR
