BEGIN:VCALENDAR
VERSION:2.0
PRODID:-//OmniMagnetCalendar//EN
BEGIN:VEVENT
DTSTAMP:20190625T195740Z
STATUS:CONFIRMED
UID:hcsanantonio.clubs.harvard.edu321
DTSTART:20211024T160000Z
DTEND:20211024T180000Z
LOCATION:Jardín at San Antonio Botanical Garden, 555 Funston Place, Upstairs Private Dining Room, San Antonio, TX, 78209,
SUMMARY:2021 HCSA Champagne Brunch At Jardin
DESCRIPTION:
BEGIN:VALARM
TRIGGER:-PT15M
ACTION:DISPLAY
END:VALARM
TRANSP:OPAQUE
END:VEVENT
END:VCALENDAR
