BEGIN:VCALENDAR
VERSION:2.0
PRODID:-//OmniMagnetCalendar//EN
BEGIN:VEVENT
DTSTAMP:20190625T195740Z
STATUS:CONFIRMED
UID:hcsanantonio.clubs.harvard.edu323
DTSTART:20211120T163000Z
DTEND:20211120T200000Z
LOCATION:Stone Werks, 999 E. Basse Rd., San Antonio, TX, 78209, USA,
SUMMARY:The Game - Harvard v. Yale 2021
DESCRIPTION:
BEGIN:VALARM
TRIGGER:-PT15M
ACTION:DISPLAY
END:VALARM
TRANSP:OPAQUE
END:VEVENT
END:VCALENDAR
