BEGIN:VCALENDAR
VERSION:2.0
PRODID:-//OmniMagnetCalendar//EN
BEGIN:VEVENT
DTSTAMP:20190625T195740Z
STATUS:CONFIRMED
UID:hcsanantonio.clubs.harvard.edu327
DTSTART:20220310T000000Z
DTEND:20220310T013000Z
LOCATION:Zoom or at an HCSA Member's Home - Contact James Watkins for Details,
SUMMARY:Harvard Club of San Antonio Book Club: POWER for ALL - March Meeting
DESCRIPTION:
BEGIN:VALARM
TRIGGER:-PT15M
ACTION:DISPLAY
END:VALARM
TRANSP:OPAQUE
END:VEVENT
END:VCALENDAR
