BEGIN:VCALENDAR
VERSION:2.0
PRODID:-//OmniMagnetCalendar//EN
BEGIN:VEVENT
DTSTAMP:20190625T195740Z
STATUS:CONFIRMED
UID:hcsanantonio.clubs.harvard.edu331
DTSTART:20220522T163000Z
DTEND:20220522T183000Z
LOCATION:Los Azulejos, 2267 NW Military Highway, Suite 101 / Covered Patio, San Antonio, TX, 78213,
SUMMARY:2022 HCSA Champagne Brunch & Annual Meeting at Los Azulejos
DESCRIPTION:
BEGIN:VALARM
TRIGGER:-PT15M
ACTION:DISPLAY
END:VALARM
TRANSP:OPAQUE
END:VEVENT
END:VCALENDAR
