BEGIN:VCALENDAR
VERSION:2.0
PRODID:-//OmniMagnetCalendar//EN
BEGIN:VEVENT
DTSTAMP:20190625T195740Z
STATUS:CONFIRMED
UID:hcsanantonio.clubs.harvard.edu332
DTSTART:20220515T183000Z
DTEND:20220515T200000Z
LOCATION:Blanco Barbecue, 13259 Blanco Road, San Antonio, TX, 78216,
SUMMARY:Harvard Book Prize BBQ
DESCRIPTION:
BEGIN:VALARM
TRIGGER:-PT15M
ACTION:DISPLAY
END:VALARM
TRANSP:OPAQUE
END:VEVENT
END:VCALENDAR
