BEGIN:VCALENDAR
VERSION:2.0
PRODID:-//OmniMagnetCalendar//EN
BEGIN:VEVENT
DTSTAMP:20190625T195740Z
STATUS:CONFIRMED
UID:hcsanantonio.clubs.harvard.edu336
DTSTART:20220722T170000Z
DTEND:20220722T180000Z
LOCATION:Santino's Italian Restaurant, 24165 I-10 W (Leon Springs), San Antonio, TX,
SUMMARY:LUNCH THIS FRIDAY - HBS Club Welcomes All Harvard Alums to join them at Lunch Club on Friday!
DESCRIPTION:Meet us on Friday at SANTINO'S! LOCATION: Santino's Italian Restaurant (I-10 W, Leon Springs) All Harvard alums are invited to a casual gathering to enjoy lunch, talk, network & exchange ideas in a relaxed atmosphere!
BEGIN:VALARM
TRIGGER:-PT15M
ACTION:DISPLAY
END:VALARM
TRANSP:OPAQUE
END:VEVENT
END:VCALENDAR
