BEGIN:VCALENDAR
VERSION:2.0
PRODID:-//OmniMagnetCalendar//EN
BEGIN:VEVENT
DTSTAMP:20190625T195740Z
STATUS:CONFIRMED
UID:hcsanantonio.clubs.harvard.edu337
DTSTART:20220824T230000Z
DTEND:20220825T003000Z
LOCATION:A Virtual Program,
SUMMARY:BEGINNING TONIGHT - Harvard Book Club Fall 2022 (a Virtual Program)
DESCRIPTION:The Measure with Bestselling Author Nikki Erlick A four-part program: Aug 24, Sept 14, Oct 19 and Nov 16
BEGIN:VALARM
TRIGGER:-PT15M
ACTION:DISPLAY
END:VALARM
TRANSP:OPAQUE
END:VEVENT
END:VCALENDAR
