BEGIN:VCALENDAR
VERSION:2.0
PRODID:-//OmniMagnetCalendar//EN
BEGIN:VEVENT
DTSTAMP:20190625T195740Z
STATUS:CONFIRMED
UID:hcsanantonio.clubs.harvard.edu338
DTSTART:20220928T220000Z
DTEND:
LOCATION:A virtual Program,
SUMMARY:A Discussion with Harvard Dean of Admissions, William Fitzsimmons
DESCRIPTION:Dean Fitzsimmons discusses the Harvard admissions process! SAVE THE DATE - more details coming your way soon!
BEGIN:VALARM
TRIGGER:-PT15M
ACTION:DISPLAY
END:VALARM
TRANSP:OPAQUE
END:VEVENT
END:VCALENDAR
