BEGIN:VCALENDAR
VERSION:2.0
PRODID:-//OmniMagnetCalendar//EN
BEGIN:VEVENT
DTSTAMP:20190625T195740Z
STATUS:CONFIRMED
UID:hcsanantonio.clubs.harvard.edu339
DTSTART:20220819T170000Z
DTEND:20220819T180000Z
LOCATION:BOURBON STREET SEAFOOD KITCHEN, 103 9th Street, (in Wyndham Garden Hotel), San Antonio, TX,
SUMMARY:You Are Invited - - Meet us at the next Harvard Lunch Club - this FRIDAY
DESCRIPTION:Join Fellow Alums at the Harvard Lunch Club on Friday! LOCATION: Bourbon Street Seafood Kitchen (downtown location - in Wyndham Garden Hotel.)
BEGIN:VALARM
TRIGGER:-PT15M
ACTION:DISPLAY
END:VALARM
TRANSP:OPAQUE
END:VEVENT
END:VCALENDAR
