BEGIN:VCALENDAR
VERSION:2.0
PRODID:-//OmniMagnetCalendar//EN
BEGIN:VEVENT
DTSTAMP:20190625T195740Z
STATUS:CONFIRMED
UID:hcsanantonio.clubs.harvard.edu340
DTSTART:20221103T000000Z
DTEND:20221103T010000Z
LOCATION:A Virtual Program,
SUMMARY:TRANSITIONING TO A CLEAN ENERGY FUTURE w Prof Daniel Cohen (an expert on ERCOT)
DESCRIPTION:Join us for a FREE virtual program, featuring Professor Daniel Cohan (AB '98) SPEAKER: Professor Daniel Cohan (AB '98, Assoc Prof of Civil & Environmental Engineering at Rice Univ)
BEGIN:VALARM
TRIGGER:-PT15M
ACTION:DISPLAY
END:VALARM
TRANSP:OPAQUE
END:VEVENT
END:VCALENDAR
