BEGIN:VCALENDAR
VERSION:2.0
PRODID:-//OmniMagnetCalendar//EN
BEGIN:VEVENT
DTSTAMP:20190625T195740Z
STATUS:CONFIRMED
UID:hcsanantonio.clubs.harvard.edu341
DTSTART:20221119T170000Z
DTEND:20221119T210000Z
LOCATION:STONE WERKS LINCOLN HEIGHTS, 999 E. Basse Rd., 345 Argyle Ave., San Antonio, TX, 78209, US,
SUMMARY:HARVARD YALE FOOTBALL 2022 Watch Party at Stone Werks
DESCRIPTION:Let's Watch the Crimson Demolish the Elis Once Again the 138th meeting of the two teams - - BRING THE ENTIRE FAMILY!
BEGIN:VALARM
TRIGGER:-PT15M
ACTION:DISPLAY
END:VALARM
TRANSP:OPAQUE
END:VEVENT
END:VCALENDAR
