BEGIN:VCALENDAR
VERSION:2.0
PRODID:-//OmniMagnetCalendar//EN
BEGIN:VEVENT
DTSTAMP:20190625T195740Z
STATUS:CONFIRMED
UID:hcsanantonio.clubs.harvard.edu342
DTSTART:20220929T223000Z
DTEND:20220930T003000Z
LOCATION:STONE WERKS LINCOLN HEIGHTS , 999 E. Basse Rd., San Antonio, TX,  ,
SUMMARY:Welcome to Your City: SAN ANTONIO  - A Harvard Alumni Event
DESCRIPTION:A Casual Get Together -  - Connect with recent Harvard alumni & learn more about your local Harvard Club!
BEGIN:VALARM
TRIGGER:-PT15M
ACTION:DISPLAY
END:VALARM
TRANSP:OPAQUE
END:VEVENT
END:VCALENDAR
