BEGIN:VCALENDAR
VERSION:2.0
PRODID:-//OmniMagnetCalendar//EN
BEGIN:VEVENT
DTSTAMP:20190625T195740Z
STATUS:CONFIRMED
UID:hcsanantonio.clubs.harvard.edu344
DTSTART:20220914T230000Z
DTEND:20220915T003000Z
LOCATION:A Virtual Program,
SUMMARY:September 14th is NEXT Harvard Book Club Fall Virtual Program
DESCRIPTION:The Measure with Best Selling Author Nikki Erlick A four-part program: Aug 24, SEPTEMBER 14, OCTOBER 19 & NOVEMBER 16
BEGIN:VALARM
TRIGGER:-PT15M
ACTION:DISPLAY
END:VALARM
TRANSP:OPAQUE
END:VEVENT
END:VCALENDAR
