BEGIN:VCALENDAR
VERSION:2.0
PRODID:-//OmniMagnetCalendar//EN
BEGIN:VEVENT
DTSTAMP:20190625T195740Z
STATUS:CONFIRMED
UID:hcsanantonio.clubs.harvard.edu346
DTSTART:20221019T230000Z
DTEND:20221020T003000Z
LOCATION:A Virtual Program,
SUMMARY:COURTESY REMINDER - Tonight is Part III of Harvard Book Club Fall Virtual Program
DESCRIPTION:The Measure with Best Selling Author Nikki Erlick A four-part program: August 24, September 14, OCTOBER 19 & November 16
BEGIN:VALARM
TRIGGER:-PT15M
ACTION:DISPLAY
END:VALARM
TRANSP:OPAQUE
END:VEVENT
END:VCALENDAR
