BEGIN:VCALENDAR
VERSION:2.0
PRODID:-//OmniMagnetCalendar//EN
BEGIN:VEVENT
DTSTAMP:20190625T195740Z
STATUS:CONFIRMED
UID:hcsanantonio.clubs.harvard.edu349
DTSTART:20221021T170000Z
DTEND:20221021T180000Z
LOCATION:BOURBON STREET SEAFOOD KITCHEN, 103 9th Street, (in Wyndham Garden Hotel), San Antonio, TX,
SUMMARY:YOUR INVITATION - - join us at the October Harvard Lunch Club
DESCRIPTION:Join Fellow Alums at the Harvard Lunch Club on Friday, October 21st LOCATION: Bourbon Street Seafood Kitchen (downtown location - in the Wyndham Garden Hotel)
BEGIN:VALARM
TRIGGER:-PT15M
ACTION:DISPLAY
END:VALARM
TRANSP:OPAQUE
END:VEVENT
END:VCALENDAR
