BEGIN:VCALENDAR
VERSION:2.0
PRODID:-//OmniMagnetCalendar//EN
BEGIN:VEVENT
DTSTAMP:20190625T195740Z
STATUS:CONFIRMED
UID:hcsanantonio.clubs.harvard.edu350
DTSTART:20221020T223000Z
DTEND:20221021T003000Z
LOCATION:THE COVE, 606 W Cypress St., San Antonio, TX, 78212,
SUMMARY:IVY PLUS Happy Hour at The Cove!
DESCRIPTION:CALLING ALL HARVARD ALUMNI - You Are Invited!  Join us For Happy Hour & Enjoy Live Music by Mainstream Jazz Trio LOCATION: The Cove
BEGIN:VALARM
TRIGGER:-PT15M
ACTION:DISPLAY
END:VALARM
TRANSP:OPAQUE
END:VEVENT
END:VCALENDAR
