BEGIN:VCALENDAR
VERSION:2.0
PRODID:-//OmniMagnetCalendar//EN
BEGIN:VEVENT
DTSTAMP:20190625T195740Z
STATUS:CONFIRMED
UID:hcsanantonio.clubs.harvard.edu351
DTSTART:20221113T190000Z
DTEND:20221113T213000Z
LOCATION:Mission San Jose, 701 E Pyron Ave., San Antonio, TX, 77214,
SUMMARY:Tour America's Oldest Un-restored Stone Church, Mission Concepcion!
DESCRIPTION:Special Tour for Harvard Alumni - Dedicated in 1755, tour the Spanish colonial landmarks! FIRST - Tour Mission San José and then Mission Concepcion - They are architecturally fascinating!
BEGIN:VALARM
TRIGGER:-PT15M
ACTION:DISPLAY
END:VALARM
TRANSP:OPAQUE
END:VEVENT
END:VCALENDAR
