BEGIN:VCALENDAR
VERSION:2.0
PRODID:-//OmniMagnetCalendar//EN
BEGIN:VEVENT
DTSTAMP:20190625T195740Z
STATUS:CONFIRMED
UID:hcsanantonio.clubs.harvard.edu354
DTSTART:20221026T230000Z
DTEND:20221027T013000Z
LOCATION:Fiesta Room, Coates Student Center at Trinity University, Stadium Drive, San Antonio, TX, 78212,
SUMMARY:Exclusive PANEL DISCUSSION - Charter Schools & San Antonio's Changing Education Landscape (* FREE *)
DESCRIPTION:LOCATION: Trinity University, Fiesta Room (Coates Student Center) Panel Discussion is Open to All Harvard Alumni, Current Students, Parents and their Guests.
BEGIN:VALARM
TRIGGER:-PT15M
ACTION:DISPLAY
END:VALARM
TRANSP:OPAQUE
END:VEVENT
END:VCALENDAR
