BEGIN:VCALENDAR
VERSION:2.0
PRODID:-//OmniMagnetCalendar//EN
BEGIN:VEVENT
DTSTAMP:20190625T195740Z
STATUS:CONFIRMED
UID:hcsanantonio.clubs.harvard.edu355
DTSTART:20221117T000000Z
DTEND:20221117T013000Z
LOCATION:A Virtual Program,
SUMMARY:Part IV - Harvard Book Club Fall 2022 (a Virtual Program)
DESCRIPTION:The Measure with Best Selling Author Nikki Erlick Join us for the final program, Part IV on Nov 16 - - the author will attend the Zoom session!
BEGIN:VALARM
TRIGGER:-PT15M
ACTION:DISPLAY
END:VALARM
TRANSP:OPAQUE
END:VEVENT
END:VCALENDAR
