BEGIN:VCALENDAR
VERSION:2.0
PRODID:-//OmniMagnetCalendar//EN
BEGIN:VEVENT
DTSTAMP:20190625T195740Z
STATUS:CONFIRMED
UID:hcsanantonio.clubs.harvard.edu357
DTSTART:20230120T180000Z
DTEND:20230120T190000Z
LOCATION:BOURBON STREET SEAFOOD KITCHEN, 103 9th Street, (in Wyndham Garden Hotel), San Antonio, TX,
SUMMARY:Join us at the January 20th Harvard Lunch Club
DESCRIPTION:Join Fellow Alums at the 1st Harvard Lunch Club Get Together in the New Year! LOCATION: Bourbon Street Seafood Kitchen (downtown location - in the Wyndham Garden Hotel)
BEGIN:VALARM
TRIGGER:-PT15M
ACTION:DISPLAY
END:VALARM
TRANSP:OPAQUE
END:VEVENT
END:VCALENDAR
