BEGIN:VCALENDAR
VERSION:2.0
PRODID:-//OmniMagnetCalendar//EN
BEGIN:VEVENT
DTSTAMP:20190625T195740Z
STATUS:CONFIRMED
UID:hcsanantonio.clubs.harvard.edu359
DTSTART:20220916T170000Z
DTEND:20220916T180000Z
LOCATION:BOURBON STREET SEAFOOD KITCHEN, 103 9th Street, (in Wyndham Garden Hotel), San Antonio, TX,
SUMMARY:The HBS Lunch Club Resumes - Join us at the 1st Lunch Club Gathering in the New Year!
DESCRIPTION:Join Fellow Alums at the HBS Lunch Club on Friday, January 20th LOCATION: Bourbon Street Seafood Kitchen (downtown location - in the Wyndham Garden Hotel)
BEGIN:VALARM
TRIGGER:-PT15M
ACTION:DISPLAY
END:VALARM
TRANSP:OPAQUE
END:VEVENT
END:VCALENDAR
