BEGIN:VCALENDAR
VERSION:2.0
PRODID:-//OmniMagnetCalendar//EN
BEGIN:VEVENT
DTSTAMP:20190625T195740Z
STATUS:CONFIRMED
UID:hcsanantonio.clubs.harvard.edu360
DTSTART:20230226T220000Z
DTEND:20230227T000000Z
LOCATION:Paesanos Lincoln Heights, 555 E Basse Road, San Antonio, TX,
SUMMARY:2023 Kick-Off - Harvard Club of San Antonio Private Party in Wine Room
DESCRIPTION:HELP US CELEBRATE LOCATION: Paesanos Italian Restaurant - Wine Room SPACE LIMITED EVENT - Reserve Early
BEGIN:VALARM
TRIGGER:-PT15M
ACTION:DISPLAY
END:VALARM
TRANSP:OPAQUE
END:VEVENT
END:VCALENDAR
