BEGIN:VCALENDAR
VERSION:2.0
PRODID:-//OmniMagnetCalendar//EN
BEGIN:VEVENT
DTSTAMP:20190625T195740Z
STATUS:CONFIRMED
UID:hcsanantonio.clubs.harvard.edu363
DTSTART:20230405T130000Z
DTEND:20230405T230000Z
LOCATION:Federal Reserve Bank (Also Virtual available), 1801 Allen Parkway, Houston, TX, 77019,
SUMMARY:HBS 3RD Annual Energy CEO Summit - ONLY VIRTUAL OPTION AVAILABLE
DESCRIPTION:Virtual option available  &  discount promo code for Harvard alums in San Antonio! Outstanding line-up of CEOs & Energy Experts!
BEGIN:VALARM
TRIGGER:-PT15M
ACTION:DISPLAY
END:VALARM
TRANSP:OPAQUE
END:VEVENT
END:VCALENDAR
