BEGIN:VCALENDAR
VERSION:2.0
PRODID:-//OmniMagnetCalendar//EN
BEGIN:VEVENT
DTSTAMP:20190625T195740Z
STATUS:CONFIRMED
UID:hcsanantonio.clubs.harvard.edu365
DTSTART:20230316T223000Z
DTEND:20230317T003000Z
LOCATION:STONE WERKS LINCOLN HEIGHTS, 999 E. Basse Rd., 345 Argyle Ave., San Antonio, TX, 78209, US,
SUMMARY:Join Us at Global Networking Night
DESCRIPTION:LOCATION: STONE WERKS BIG ROCK GRILLE - Lincoln Heights
BEGIN:VALARM
TRIGGER:-PT15M
ACTION:DISPLAY
END:VALARM
TRANSP:OPAQUE
END:VEVENT
END:VCALENDAR
