BEGIN:VCALENDAR
VERSION:2.0
PRODID:-//OmniMagnetCalendar//EN
BEGIN:VEVENT
DTSTAMP:20190625T195740Z
STATUS:CONFIRMED
UID:hcsanantonio.clubs.harvard.edu366
DTSTART:20230521T163000Z
DTEND:20230521T190000Z
LOCATION:Private Elm Creek Residence - provided after registration,  ,  ,  ,  ,  ,
SUMMARY:2023 HCSA Champagne Brunch - Election of Officers & Directors Annual Meeting - PRIVATE RESIDENCE
DESCRIPTION:LOCATION:  Private Elm Creek Residence of club member Homero Garza, MA / MPH & Hon. Sandee Bryan Marion Club Business - Election of Directors & Officers - - plus, Help us Welcome our New Admits to the Harvard Community!
BEGIN:VALARM
TRIGGER:-PT15M
ACTION:DISPLAY
END:VALARM
TRANSP:OPAQUE
END:VEVENT
END:VCALENDAR
