BEGIN:VCALENDAR
VERSION:2.0
PRODID:-//OmniMagnetCalendar//EN
BEGIN:VEVENT
DTSTAMP:20190625T195740Z
STATUS:CONFIRMED
UID:hcsanantonio.clubs.harvard.edu367
DTSTART:20231022T183000Z
DTEND:20231022T200000Z
LOCATION:Blanco BBQ Restaurant, 13259 Blanco Rd., San Antonio, TX, 78216,
SUMMARY:Harvard Prize Book Backyard BBQ - you are invited!
DESCRIPTION:LOCATION: Blanco BBQ Restaurant Recognizing Class of 2024 Recipients
BEGIN:VALARM
TRIGGER:-PT15M
ACTION:DISPLAY
END:VALARM
TRANSP:OPAQUE
END:VEVENT
END:VCALENDAR
